BEGIN:VCALENDAR
PRODID:NingEventWidget-v1
VERSION:2.0
METHOD:PUBLISH
BEGIN:VEVENT
UID:6457695:Event:434963
DTSTAMP:20260422T175203Z
SUMMARY:Silvopasturing as a Strategy to Enhance Grazing Systems in New
  England
DESCRIPTION:Massachusetts Farm Bureau Federationâ€™s (MFBFâ€™s) Young 
 Farmers and Ranchers (YF&R) committee is sponsoring a webinar on March
  9 at 7 p.m. covering silvopasturing as a strategy to enhance grazing 
 systems in New England. Speaker, Brett, Chedzoy, will share personal e
 xperiences on how silvopasturing has benefited family ranching operati
 ons in western New York and central Argentina to improve the land and 
 welfare of their livestock, while also improving the bottom line.\r\nÂ
  \r\nBrett Chedzoy is a forester with Cornell University Cooperative E
 xtension of Schuyler County, New York.Â  He works regionally on forest
 ry, agroforestry and grazing education and his experiences with silvop
 asturing spans 30 years. Â \r\nÂ \r\nThis webinar is $10 for members o
 f MFBF and $25 for non-members. It will be recorded and shared with pa
 ying participants following the meeting.Â \r\nÂ \r\nTo register, pleas
 e visit: https://mfbf.net/news/yfr_silvopasturing/\r\nÂ \n\nFor more i
 nformation visit https://silvopasture.ning.com/events/silvopasturing-a
 s-a-strategy-to-enhance-grazing-systems-in-new
DTSTART:20210310T000000Z
DTEND:20210310T010000Z
CATEGORIES:webinar
LOCATION:webinar
WEBSITE:https://mfbf.net/news/yfr_silvopasturing/
URL:https://mfbf.net/news/yfr_silvopasturing/
CONTACT:
ORGANIZER:
ATTACH;FMTTYPE="image/jpeg":
ATTENDEE;ROLE=REQ-PARTICIPANT;PARTSTAT=ACCEPTED;RSVP=TRUE;CN="Brett Ch
 edzoy":https://silvopasture.ning.com/profile/BrettChedzoy
END:VEVENT
END:VCALENDAR
